BEGIN:VCALENDAR
VERSION:2.0
PRODID:spatie/icalendar-generator
DESCRIPTION:Events from Peninsula Community Library
X-WR-CALDESC:Events from Peninsula Community Library
REFRESH-INTERVAL;VALUE=DURATION:PT1440M
X-PUBLISHED-TTL:PT1440M
BEGIN:VTIMEZONE
TZID:America/Detroit
BEGIN:STANDARD
DTSTART:20251102T020000Z
TZOFFSETFROM:-0400
TZOFFSETTO:-0500
END:STANDARD
BEGIN:DAYLIGHT
DTSTART:20260308T020000Z
TZOFFSETFROM:-0500
TZOFFSETTO:-0400
END:DAYLIGHT
END:VTIMEZONE
BEGIN:VTIMEZONE
TZID:UTC
BEGIN:STANDARD
DTSTART:20250729T155147Z
TZOFFSETFROM:+0000
TZOFFSETTO:+0000
END:STANDARD
END:VTIMEZONE
BEGIN:VEVENT
UID:341-59
DTSTAMP:20260425T155147Z
SUMMARY:Peninsula Insights
LOCATION:Peninsula Community Library 2893 Island View Rd  Traverse City MI 
 49686
ORGANIZER;CN=Denise Olson:MAILTO:dolson@tadl.org
RRULE:FREQ=MONTHLY;BYDAY=3WE;UNTIL=20260617T000000Z
DTSTART;TZID=America/Detroit:20260415T190000
DTEND;TZID=America/Detroit:20260415T200000
X-ALT-DESC;FMTTYPE=TEXT/HTML:Speakers of interest every 3rd Wednesday of th
 e month at 7 pm. All welcome! 
CATEGORIES:General
URL;VALUE=URI:https://peninsulacommunitylibrary.org/mc-events/peninsula-ins
 ights/?mc_id=341
METHOD:PUBLISH
END:VEVENT
END:VCALENDAR