BEGIN:VCALENDAR
VERSION:2.0
PRODID:spatie/icalendar-generator
DESCRIPTION:Events from Peninsula Community Library
X-WR-CALDESC:Events from Peninsula Community Library
REFRESH-INTERVAL;VALUE=DURATION:PT1440M
X-PUBLISHED-TTL:PT1440M
BEGIN:VTIMEZONE
TZID:America/Detroit
BEGIN:STANDARD
DTSTART:20251102T020000Z
TZOFFSETFROM:-0400
TZOFFSETTO:-0500
END:STANDARD
BEGIN:DAYLIGHT
DTSTART:20260308T020000Z
TZOFFSETFROM:-0500
TZOFFSETTO:-0400
END:DAYLIGHT
BEGIN:STANDARD
DTSTART:20261101T020000Z
TZOFFSETFROM:-0400
TZOFFSETTO:-0500
END:STANDARD
END:VTIMEZONE
BEGIN:VTIMEZONE
TZID:UTC
BEGIN:STANDARD
DTSTART:20250729T155133Z
TZOFFSETFROM:+0000
TZOFFSETTO:+0000
END:STANDARD
END:VTIMEZONE
BEGIN:VEVENT
UID:339-77
DTSTAMP:20260425T155133Z
SUMMARY:Dementia/Altzheimer Care
LOCATION:Peninsula Community Library 2893 Island View Rd  Traverse City MI 
 49686
ORGANIZER;CN=Kim Lakes Morman:MAILTO:klakesmorman@tadl.org
DTSTART;TZID=America/Detroit:20260430T140000
DTEND;TZID=America/Detroit:20260430T171500
X-ALT-DESC;FMTTYPE=TEXT/HTML:By popular demand\, Kelly McCord returns to sh
 are information about caring for people with memory issues. The content sh
 ared in the fall will be repeated from 2:00 - 3:30. New content from 3:45 
 to 5:15. Program sponsored by Accelerate the Care
CATEGORIES:General
URL;VALUE=URI:https://peninsulacommunitylibrary.org/mc-events/dementia-altz
 heimer-care/
METHOD:PUBLISH
END:VEVENT
END:VCALENDAR