BEGIN:VCALENDAR
VERSION:2.0
PRODID:spatie/icalendar-generator
DESCRIPTION:Events from Peninsula Community Library
X-WR-CALDESC:Events from Peninsula Community Library
REFRESH-INTERVAL;VALUE=DURATION:PT1440M
X-PUBLISHED-TTL:PT1440M
BEGIN:VTIMEZONE
TZID:America/Detroit
BEGIN:STANDARD
DTSTART:20251102T020000Z
TZOFFSETFROM:-0400
TZOFFSETTO:-0500
END:STANDARD
BEGIN:DAYLIGHT
DTSTART:20260308T020000Z
TZOFFSETFROM:-0500
TZOFFSETTO:-0400
END:DAYLIGHT
BEGIN:STANDARD
DTSTART:20261101T020000Z
TZOFFSETFROM:-0400
TZOFFSETTO:-0500
END:STANDARD
END:VTIMEZONE
BEGIN:VTIMEZONE
TZID:UTC
BEGIN:STANDARD
DTSTART:20250730T000413Z
TZOFFSETFROM:+0000
TZOFFSETTO:+0000
END:STANDARD
END:VTIMEZONE
BEGIN:VEVENT
UID:346-81
DTSTAMP:20260426T000413Z
SUMMARY:Wing Watchers
LOCATION:Peninsula Community Library 2893 Island View Rd  Traverse City MI 
 49686
ORGANIZER;CN=Kim Lakes Morman:MAILTO:klakesmorman@tadl.org
DTSTART;TZID=America/Detroit:20260505T183000
DTEND;TZID=America/Detroit:20260505T193000
X-ALT-DESC;FMTTYPE=TEXT/HTML:Welcome birdwatchers! Audubon's Kirk Waterstri
 pe joins us to discuss spring prep for bird feeding.
CATEGORIES:General
URL;VALUE=URI:https://peninsulacommunitylibrary.org/mc-events/wing-watchers
 -3/
METHOD:PUBLISH
END:VEVENT
END:VCALENDAR