BEGIN:VCALENDAR
VERSION:2.0
PRODID:spatie/icalendar-generator
DESCRIPTION:Events from Peninsula Community Library
X-WR-CALDESC:Events from Peninsula Community Library
REFRESH-INTERVAL;VALUE=DURATION:PT1440M
X-PUBLISHED-TTL:PT1440M
BEGIN:VTIMEZONE
TZID:America/Detroit
BEGIN:STANDARD
DTSTART:20251102T020000Z
TZOFFSETFROM:-0400
TZOFFSETTO:-0500
END:STANDARD
BEGIN:DAYLIGHT
DTSTART:20260308T020000Z
TZOFFSETFROM:-0500
TZOFFSETTO:-0400
END:DAYLIGHT
BEGIN:STANDARD
DTSTART:20261101T020000Z
TZOFFSETFROM:-0400
TZOFFSETTO:-0500
END:STANDARD
END:VTIMEZONE
BEGIN:VTIMEZONE
TZID:UTC
BEGIN:STANDARD
DTSTART:20250729T204922Z
TZOFFSETFROM:+0000
TZOFFSETTO:+0000
END:STANDARD
END:VTIMEZONE
BEGIN:VEVENT
UID:347-82
DTSTAMP:20260425T204922Z
SUMMARY:May the 4th Be With You
LOCATION:Peninsula Community Library 2893 Island View Rd  Traverse City MI 
 49686
ORGANIZER;CN=Kim Lakes Morman:MAILTO:klakesmorman@tadl.org
DTSTART;TZID=America/Detroit:20260504T150000
DTEND;TZID=America/Detroit:20260504T180000
X-ALT-DESC;FMTTYPE=TEXT/HTML:Families drop in for DIY activities from our f
 avorite out of this universe movies! Crafts\, a guessing game and more!
CATEGORIES:General
URL;VALUE=URI:https://peninsulacommunitylibrary.org/mc-events/may-the-4th-b
 e-with-you/
METHOD:PUBLISH
END:VEVENT
END:VCALENDAR